View In:
ArcGIS JavaScript
ArcGIS Online Map Viewer
ArcGIS Earth
Service Description: SICARF/juruti_1_5cm
Name: SICARF/juruti_1_5cm
Description:
Single Fused Map Cache: false
Extent:
XMin: -67998.79586207453
YMin: 9759602.035449693
XMax: -65424.10735167455
YMax: 9761116.515265694
Spatial Reference: 31982
(31982)
LatestVCSWkid(0)
Initial Extent:
XMin: -67998.79586207453
YMin: 9759602.035449693
XMax: -65424.10735167455
YMax: 9761116.515265694
Spatial Reference: 31982
(31982)
LatestVCSWkid(0)
Full Extent:
XMin: -67998.79586207453
YMin: 9759602.035449693
XMax: -65424.10735167455
YMax: 9761116.515265694
Spatial Reference: 31982
(31982)
LatestVCSWkid(0)
Pixel Size X: 0.04854879999999964
Pixel Size Y: 0.048548800000029126
Band Count: 3
Pixel Type: U16
RasterFunction Infos: {"rasterFunctionInfos": [{
"name": "None",
"description": "",
"help": ""
}]}
Mensuration Capabilities: Basic
Inspection Capabilities:
Has Histograms: true
Has Colormap: false
Has Multi Dimensions : false
Rendering Rule:
Min Scale: 0
Max Scale: 0
Copyright Text:
Service Data Type: esriImageServiceDataTypeGeneric
Min Values: 0, 0, 0
Max Values: 255, 255, 255
Mean Values: 85.777364962512, 87.06565629804868, 78.2786376230166
Standard Deviation Values: 47.32708801161252, 43.36735712970303, 46.86389125408121
Object ID Field:
Fields:
None
Default Mosaic Method: Center
Allowed Mosaic Methods:
SortField:
SortValue: null
Mosaic Operator: First
Default Compression Quality: 75
Default Resampling Method: Bilinear
Max Record Count: null
Max Image Height: 4100
Max Image Width: 15000
Max Download Image Count: null
Max Mosaic Image Count: null
Allow Raster Function: true
Allow Copy: true
Allow Analysis: true
Allow Compute TiePoints: false
Supports Statistics: false
Supports Advanced Queries: false
Use StandardizedQueries: true
Raster Type Infos:
Name: Raster Dataset
Description: Supports all ArcGIS Raster Datasets
Help:
Has Raster Attribute Table: false
Edit Fields Info: null
Ownership Based AccessControl For Rasters: null
Child Resources:
Info
Histograms
Statistics
Key Properties
Legend
Raster Function Infos
Supported Operations:
Export Image
Identify
Measure
Compute Histograms
Compute Statistics Histograms
Get Samples
Compute Class Statistics
Query Boundary
Compute Pixel Location
Compute Angles
Validate
Project