{
 "currentVersion": 11.5,
 "serviceDescription": "SICARF/juruti_1_5cm",
 "serviceItemId": "f270ad7875244766ac1ff15f2c97b82f",
 "name": "SICARF/juruti_1_5cm",
 "description": "",
 "extent": {
  "xmin": -67998.79586207453,
  "ymin": 9759602.035449693,
  "xmax": -65424.10735167455,
  "ymax": 9761116.515265694,
  "spatialReference": {
   "wkid": 31982,
   "latestWkid": 31982
  }
 },
 "initialExtent": {
  "xmin": -67998.79586207453,
  "ymin": 9759602.035449693,
  "xmax": -65424.10735167455,
  "ymax": 9761116.515265694,
  "spatialReference": {
   "wkid": 31982,
   "latestWkid": 31982
  }
 },
 "fullExtent": {
  "xmin": -67998.79586207453,
  "ymin": 9759602.035449693,
  "xmax": -65424.10735167455,
  "ymax": 9761116.515265694,
  "spatialReference": {
   "wkid": 31982,
   "latestWkid": 31982
  }
 },
 "sortableFields": "",
 "bandCount": 3,
 "pixelType": "U16",
 "minValues": [
  0,
  0,
  0
 ],
 "maxValues": [
  255,
  255,
  255
 ],
 "meanValues": [
  85.777364962512,
  87.06565629804868,
  78.2786376230166
 ],
 "stdvValues": [
  47.32708801161252,
  43.36735712970303,
  46.86389125408121
 ],
 "serviceProperties": "Center<\/MosaicMethod>First<\/MosaicOperator>true<\/SortAscending><\/LockImageID><\/TileOrderField>0<\/TileOrderBase>0.000000<\/AvgImageSpacingX>0.000000<\/AvgImageSpacingY>0.0<\/ViewPointX>0.0<\/ViewPointY>0.0<\/ViewPointDefShiftX>0.0<\/ViewPointDefShiftY>None<\/CompressionMethod>75<\/CompressionQuality>0.010000<\/CompressionTolerance>Bilinear<\/SamplingMethod><\/ImageServiceProperties><\/ImageServer>",
 "allowedFields": "",
 "hasMultidimensions": false,
 "pixelSizeX": 0.04854879999999964,
 "pixelSizeY": 0.048548800000029126,
 "meanPixelSize": 0.04854880000001438,
 "datasetFormat": "FGDBR",
 "uncompressedSize": 9926186610,
 "blockWidth": 128,
 "blockHeight": 128,
 "compressionType": "LZ77",
 "bandNames": [
  "Band_1",
  "Band_2",
  "Band_3"
 ],
 "allowCopy": true,
 "allowAnalysis": true,
 "itemAccess": false,
 "inspectionCapabilities": "",
 "minPixelSize": 0,
 "maxPixelSize": 0,
 "copyrightText": "",
 "serviceDataType": "esriImageServiceDataTypeGeneric",
 "serviceSourceType": "esriImageServiceSourceTypeDataset",
 "objectIdField": "",
 "fields": [],
 "capabilities": "Image,Metadata,Mensuration",
 "defaultMosaicMethod": "Center",
 "allowedMosaicMethods": "",
 "sortField": "",
 "sortValue": null,
 "sortAscending": true,
 "mosaicOperator": "First",
 "defaultCompressionQuality": 75,
 "defaultResamplingMethod": "Bilinear",
 "maxImageHeight": 4100,
 "maxImageWidth": 15000,
 "allowRasterFunction": true,
 "rasterFunctionInfos": [
  {
   "name": "None",
   "description": "",
   "help": ""
  }
 ],
 "rasterTypeInfos": [
  {
   "name": "Raster Dataset",
   "description": "Supports all ArcGIS Raster Datasets",
   "help": ""
  }
 ],
 "mensurationCapabilities": "Basic",
 "hasHistograms": true,
 "hasColormap": false,
 "hasRasterAttributeTable": false,
 "minScale": 0,
 "maxScale": 0,
 "exportTilesAllowed": false,
 "supportsStatistics": false,
 "supportsAdvancedQueries": false,
 "editFieldsInfo": null,
 "ownershipBasedAccessControlForRasters": null,
 "allowComputeTiePoints": false,
 "useStandardizedQueries": true,
 "advancedQueryCapabilities": {
  "useStandardizedQueries": true,
  "supportsStatistics": false,
  "supportsOrderBy": false,
  "supportsDistinct": false,
  "supportsPagination": false
 },
 "spatialReference": {
  "wkid": 31982,
  "latestWkid": 31982
 }
}
