View In:
ArcGIS JavaScript
ArcGIS Online Map Viewer
ArcGIS Earth
Service Description: SICARF/benevides_1_5cm
Name: SICARF/benevides_1_5cm
Description:
Single Fused Map Cache: false
Extent:
XMin: 806106.4933730252
YMin: 9847723.420446921
XMax: 807536.9433730252
YMax: 9848518.37044692
Spatial Reference: 31982
(31982)
VCSWkid(5773)
LatestVCSWkid(5773)
Initial Extent:
XMin: 806106.4933730252
YMin: 9847723.420446921
XMax: 807536.9433730252
YMax: 9848518.37044692
Spatial Reference: 31982
(31982)
VCSWkid(5773)
LatestVCSWkid(5773)
Full Extent:
XMin: 806106.4933730252
YMin: 9847723.420446921
XMax: 807536.9433730252
YMax: 9848518.37044692
Spatial Reference: 31982
(31982)
VCSWkid(5773)
LatestVCSWkid(5773)
Pixel Size X: 0.04999999999999837
Pixel Size Y: 0.04999999999995314
Band Count: 3
Pixel Type: U8
RasterFunction Infos: {"rasterFunctionInfos": [{
"name": "None",
"description": "",
"help": ""
}]}
Mensuration Capabilities: Basic
Inspection Capabilities:
Has Histograms: true
Has Colormap: false
Has Multi Dimensions : false
Rendering Rule:
Min Scale: 0
Max Scale: 0
Copyright Text:
Service Data Type: esriImageServiceDataTypeRGB
Min Values: 1, 1, 1
Max Values: 255, 255, 255
Mean Values: 143.9505876723575, 148.1482735884733, 119.97967730025866
Standard Deviation Values: 61.619635237622944, 54.51842219287204, 63.04412758200552
Object ID Field:
Fields:
None
Default Mosaic Method: Center
Allowed Mosaic Methods:
SortField:
SortValue: null
Mosaic Operator: First
Default Compression Quality: 75
Default Resampling Method: Bilinear
Max Record Count: null
Max Image Height: 4100
Max Image Width: 15000
Max Download Image Count: null
Max Mosaic Image Count: null
Allow Raster Function: true
Allow Copy: true
Allow Analysis: true
Allow Compute TiePoints: false
Supports Statistics: false
Supports Advanced Queries: false
Use StandardizedQueries: true
Raster Type Infos:
Name: Raster Dataset
Description: Supports all ArcGIS Raster Datasets
Help:
Has Raster Attribute Table: false
Edit Fields Info: null
Ownership Based AccessControl For Rasters: null
Child Resources:
Info
Histograms
Statistics
Key Properties
Legend
Raster Function Infos
Supported Operations:
Export Image
Identify
Measure
Compute Histograms
Compute Statistics Histograms
Get Samples
Compute Class Statistics
Query Boundary
Compute Pixel Location
Compute Angles
Validate
Project