View In:
ArcGIS JavaScript
ArcGIS Online Map Viewer
ArcGIS Earth
Service Description: SICARF/Moju_1_5cm
Name: SICARF/Moju_1_5cm
Description:
Single Fused Map Cache: false
Extent:
XMin: 758356.9801235194
YMin: 9767708.422780894
XMax: 760211.6899299194
YMax: 9769027.348030495
Spatial Reference: 31982
(31982)
VCSWkid(5773)
LatestVCSWkid(5773)
Initial Extent:
XMin: 758356.9801235194
YMin: 9767708.422780894
XMax: 760211.6899299194
YMax: 9769027.348030495
Spatial Reference: 31982
(31982)
VCSWkid(5773)
LatestVCSWkid(5773)
Full Extent:
XMin: 758356.9801235194
YMin: 9767708.422780894
XMax: 760211.6899299194
YMax: 9769027.348030495
Spatial Reference: 31982
(31982)
VCSWkid(5773)
LatestVCSWkid(5773)
Pixel Size X: 0.04854880000000005
Pixel Size Y: 0.04854880000002882
Band Count: 3
Pixel Type: U16
RasterFunction Infos: {"rasterFunctionInfos": [{
"name": "None",
"description": "",
"help": ""
}]}
Mensuration Capabilities: Basic
Inspection Capabilities:
Has Histograms: true
Has Colormap: false
Has Multi Dimensions : false
Rendering Rule:
Min Scale: 0
Max Scale: 0
Copyright Text:
Service Data Type: esriImageServiceDataTypeGeneric
Min Values: 0, 0, 0
Max Values: 255, 255, 255
Mean Values: 87.68318376045463, 95.41090858975194, 82.5260984779962
Standard Deviation Values: 36.61853305306911, 30.706842465881905, 33.89242814236494
Object ID Field:
Fields:
None
Default Mosaic Method: Center
Allowed Mosaic Methods:
SortField:
SortValue: null
Mosaic Operator: First
Default Compression Quality: 75
Default Resampling Method: Bilinear
Max Record Count: null
Max Image Height: 4100
Max Image Width: 15000
Max Download Image Count: null
Max Mosaic Image Count: null
Allow Raster Function: true
Allow Copy: true
Allow Analysis: true
Allow Compute TiePoints: false
Supports Statistics: false
Supports Advanced Queries: false
Use StandardizedQueries: true
Raster Type Infos:
Name: Raster Dataset
Description: Supports all ArcGIS Raster Datasets
Help:
Has Raster Attribute Table: false
Edit Fields Info: null
Ownership Based AccessControl For Rasters: null
Child Resources:
Info
Histograms
Statistics
Key Properties
Legend
Raster Function Infos
Supported Operations:
Export Image
Identify
Measure
Compute Histograms
Compute Statistics Histograms
Get Samples
Compute Class Statistics
Query Boundary
Compute Pixel Location
Compute Angles
Validate
Project